BEGIN:VCALENDAR
VERSION:2.0
PRODID:-//SPD Groß-Gerau - ECPv6.15.13//NONSGML v1.0//EN
CALSCALE:GREGORIAN
METHOD:PUBLISH
X-ORIGINAL-URL:https://spd-gross-gerau.de
X-WR-CALDESC:Veranstaltungen für SPD Groß-Gerau
REFRESH-INTERVAL;VALUE=DURATION:PT1H
X-Robots-Tag:noindex
X-PUBLISHED-TTL:PT1H
BEGIN:VTIMEZONE
TZID:Europe/Berlin
BEGIN:DAYLIGHT
TZOFFSETFROM:+0100
TZOFFSETTO:+0200
TZNAME:CEST
DTSTART:20240331T010000
END:DAYLIGHT
BEGIN:STANDARD
TZOFFSETFROM:+0200
TZOFFSETTO:+0100
TZNAME:CET
DTSTART:20241027T010000
END:STANDARD
BEGIN:DAYLIGHT
TZOFFSETFROM:+0100
TZOFFSETTO:+0200
TZNAME:CEST
DTSTART:20250330T010000
END:DAYLIGHT
BEGIN:STANDARD
TZOFFSETFROM:+0200
TZOFFSETTO:+0100
TZNAME:CET
DTSTART:20251026T010000
END:STANDARD
BEGIN:DAYLIGHT
TZOFFSETFROM:+0100
TZOFFSETTO:+0200
TZNAME:CEST
DTSTART:20260329T010000
END:DAYLIGHT
BEGIN:STANDARD
TZOFFSETFROM:+0200
TZOFFSETTO:+0100
TZNAME:CET
DTSTART:20261025T010000
END:STANDARD
END:VTIMEZONE
BEGIN:VEVENT
DTSTART;TZID=Europe/Berlin:20250605T190000
DTEND;TZID=Europe/Berlin:20250605T210000
DTSTAMP:20260423T062625
CREATED:20250302T202403Z
LAST-MODIFIED:20250302T202403Z
UID:5568-1749150000-1749157200@spd-gross-gerau.de
SUMMARY:SPD Ortsvereinsvorstandssitzung 2025-06
DESCRIPTION:Unsere nächste SPD Ortsvereinsvorstandssitzung findet statt am \nDonnerstag\, 05. Juni 2025\,\num 19:00 Uhr. \nDie Sitzungen des SPD-Ortsvereinsvorstands finden nicht bzw. partei-öffentlich statt.\nDer Ort und die Tagesordnung werden via E-Mail versendet. \nMitglieder\, die nicht im Vorstand sind\, können eine E-Mail an Vorsitzender@SPD-Gross-Gerau.de für weitere Infos senden. \nInteressierte Personen\, die noch nicht Mitglied der SPD sind\, können unsere Stammtische besuchen.\nWeitere Infos dazu unter: www.spd-gross-gerau.de/stammtisch
URL:https://spd-gross-gerau.de/termin/ovvs-2025-06/
LOCATION:Groß-Gerau\, Groß-Gerau\, Hessen\, 64521\, Deutschland
CATEGORIES:Ortsvereinsvorstand,Sitzungen
ATTACH;FMTTYPE=image/png:https://spd-gross-gerau.de/wp-content/uploads/2024/10/OVV-Sitzungen.png
ORGANIZER;CN="Ortsvereinsvorstand":MAILTO:Vorsitzender@SPD-Gross-Gerau.de
END:VEVENT
END:VCALENDAR