BEGIN:VCALENDAR
VERSION:2.0
PRODID:-//SPD Groß-Gerau - ECPv6.15.13//NONSGML v1.0//EN
CALSCALE:GREGORIAN
METHOD:PUBLISH
X-ORIGINAL-URL:https://spd-gross-gerau.de
X-WR-CALDESC:Veranstaltungen für SPD Groß-Gerau
REFRESH-INTERVAL;VALUE=DURATION:PT1H
X-Robots-Tag:noindex
X-PUBLISHED-TTL:PT1H
BEGIN:VTIMEZONE
TZID:Europe/Berlin
BEGIN:DAYLIGHT
TZOFFSETFROM:+0100
TZOFFSETTO:+0200
TZNAME:CEST
DTSTART:20240331T010000
END:DAYLIGHT
BEGIN:STANDARD
TZOFFSETFROM:+0200
TZOFFSETTO:+0100
TZNAME:CET
DTSTART:20241027T010000
END:STANDARD
BEGIN:DAYLIGHT
TZOFFSETFROM:+0100
TZOFFSETTO:+0200
TZNAME:CEST
DTSTART:20250330T010000
END:DAYLIGHT
BEGIN:STANDARD
TZOFFSETFROM:+0200
TZOFFSETTO:+0100
TZNAME:CET
DTSTART:20251026T010000
END:STANDARD
BEGIN:DAYLIGHT
TZOFFSETFROM:+0100
TZOFFSETTO:+0200
TZNAME:CEST
DTSTART:20260329T010000
END:DAYLIGHT
BEGIN:STANDARD
TZOFFSETFROM:+0200
TZOFFSETTO:+0100
TZNAME:CET
DTSTART:20261025T010000
END:STANDARD
END:VTIMEZONE
BEGIN:VEVENT
DTSTART;TZID=Europe/Berlin:20250402T190000
DTEND;TZID=Europe/Berlin:20250402T210000
DTSTAMP:20260423T093215
CREATED:20250302T201852Z
LAST-MODIFIED:20250302T201852Z
UID:5564-1743620400-1743627600@spd-gross-gerau.de
SUMMARY:SPD Ortsvereinsvorstandssitzung 2025-04
DESCRIPTION:Unsere nächste SPD Ortsvereinsvorstandssitzung findet statt am \nMittwoch\, 02. April 2025\,\num 19:00 Uhr. \nDie Sitzungen des SPD-Ortsvereinsvorstands finden nicht bzw. partei-öffentlich statt.\nDer Ort und die Tagesordnung werden via E-Mail versendet. \nMitglieder\, die nicht im Vorstand sind\, können eine E-Mail an Vorsitzender@SPD-Gross-Gerau.de für weitere Infos senden. \nInteressierte Personen\, die noch nicht Mitglied der SPD sind\, können unsere Stammtische besuchen.\nWeitere Infos dazu unter: www.spd-gross-gerau.de/stammtisch
URL:https://spd-gross-gerau.de/termin/ovvs-2025-04/
LOCATION:Groß-Gerau\, Groß-Gerau\, Hessen\, 64521\, Deutschland
CATEGORIES:Ortsvereinsvorstand,Sitzungen
ATTACH;FMTTYPE=image/png:https://spd-gross-gerau.de/wp-content/uploads/2024/10/OVV-Sitzungen.png
ORGANIZER;CN="Ortsvereinsvorstand":MAILTO:Vorsitzender@SPD-Gross-Gerau.de
END:VEVENT
BEGIN:VEVENT
DTSTART;TZID=Europe/Berlin:20250419T150000
DTEND;TZID=Europe/Berlin:20250419T153000
DTSTAMP:20260423T093215
CREATED:20250411T161818Z
LAST-MODIFIED:20250411T164238Z
UID:5585-1745074800-1745076600@spd-gross-gerau.de
SUMMARY:Ostereiersuche Dornheim 2025
DESCRIPTION:Die Dornheimer Genoss*innen laden auch 2025 wieder zur traditionellen Ostereiersuche ein. Wir freuen uns\, zahlreiche Kinder bis zur 4. Klasse begrüßen zu dürfen. Die Tore zu den bunten Eiern und Schoko-Nestern öffnen am \nOster-Samstag\, 19. April 2025\, um 15:00 Uhr\, auf dem Sportplatz Dornheim\, Am Sportfeld 1\, 64521 Groß-Gerau/Dornheim \nDie Ostereiersuche verspricht ein spannendes Erlebnis für die kleinen Teilnehmenden. Mit Eifer und Freude dürfen sie nach versteckten Ostereiern suchen. Für die ganz Kleinen gibt es gesonderte Nester\, die das Suchen erleichtern und viel Spaß bringen! \nIn Dornheim findet die Veranstaltung wie auch im Vorjahr auf den dortigen Sportplätzen statt. Die SPD dankt der SG Dornheim für die Bereitstellung des Platzes. Die Veranstaltung wird von den örtlichen Genoss*innen betreut und verspricht nicht nur ein aufregendes Erlebnis für die Kinder\, sondern auch eine Gelegenheit für die Eltern\, ins Gespräch zu kommen und sich auszutauschen. Die Dornheimer Genoss*innen bieten zudem ein Kaffee- und Kuchenangebot an. \n  \nWir freuen uns auf zahlreiche kleine und große Besuchende sowie darauf gemeinsam mit Ihnen einen großartigen Nachmittag zu verbringen! \nWeitere Informationen finden Sie auf unserer Webseite unter:https://SPD-Gross-Gerau.de/Ostereiersuche-2025 \nBei Fragen stehen der Ortsvereinsvorstand und das Veranstaltungsteam der SPD Groß-Gerau jederzeit gerne zur Verfügung.  \n\n\n\n\n\n\n\nSPD-Ortsverein Groß-Gerau Sascha Reza (Vorsitzender) Ortsverein@SPD-Gross-Gerau.de \nSPD-Veranstaltungsteam Blerina Weigand Veranstaltungen@SPD-Gross-Gerau.de
URL:https://spd-gross-gerau.de/termin/ostereiersuche-dornheim-2025/
LOCATION:Sportgelände Dornheim\, Am Sportfeld 18A\, Dornheim\, Hessen\, 64521\, Deutschland
CATEGORIES:Ostereiersuche,Veranstaltungen
ATTACH;FMTTYPE=image/png:https://spd-gross-gerau.de/wp-content/uploads/2025/04/image-3.png
ORGANIZER;CN="Veranstaltungsteam":MAILTO:Veranstaltungen@SPD-Gross-Gerau.de
END:VEVENT
BEGIN:VEVENT
DTSTART;TZID=Europe/Berlin:20250419T150000
DTEND;TZID=Europe/Berlin:20250419T153000
DTSTAMP:20260423T093215
CREATED:20250411T163205Z
LAST-MODIFIED:20260307T155414Z
UID:5597-1745074800-1745076600@spd-gross-gerau.de
SUMMARY:Ostereiersuche Wallerstädten 2025
DESCRIPTION:Die Wallerstädter Genoss*innen laden auch 2025 wieder zur traditionellen Ostereiersuche ein. Wir freuen uns\, zahlreiche Kinder bis zur 4. Klasse begrüßen zu dürfen. Die Tore zu den bunten Eiern und Schoko-Nestern öffnen am \nOster-Samstag\, 19. April 2025\, um 15:00 Uhr\, auf den Tennisplätzen Wallerstädten\, Am Schlag 75\, 64521 Groß-Gerau/Dornheim \nDie Ostereiersuche verspricht ein spannendes Erlebnis für die kleinen Teilnehmenden. Mit Eifer und Freude dürfen sie nach versteckten Ostereiern suchen. Für die ganz Kleinen gibt es gesonderte Nester\, die das Suchen erleichtern und viel Spaß bringen! \nIm Stadtteil Wallerstädten gibt es in diesem Jahr einen Ortswechsel. Anstelle des Sportplatzes wurden dieses Jahr die Tennisplätze in Wallerstädten für die Suche nach den bunten Eiern ausgewählt. Die Veranstaltung in Wallerstädten findet in Kooperation mit der Tennisabteilung der SKG Wallerstädten statt und wird von den örtlichen Genoss*innen betreut. Sie verspricht nicht nur ein aufregendes Erlebnis für die Kinder\, sondern auch eine Gelegenheit für die Eltern\, ins Gespräch zu kommen und sich auszutauschen. Die Wallerstädter Tennisabteilung der SKG bietet zudem ein Kaffee- und Kuchenangebot an. \n  \nWir freuen uns auf zahlreiche kleine und große Besuchende sowie darauf gemeinsam mit Ihnen einen großartigen Nachmittag zu verbringen! \nWeitere Informationen finden Sie auf unserer Webseite unter:https://SPD-Gross-Gerau.de/Ostereiersuche-2025 \nBei Fragen stehen der Ortsvereinsvorstand und das Veranstaltungsteam der SPD Groß-Gerau jederzeit gerne zur Verfügung.  \n\n\n\n\n\n\n\n\nSPD-Ortsverein Groß-GerauSascha Reza (Vorsitzender)Ortsverein@SPD-Gross-Gerau.de  \n\nSPD-VeranstaltungsteamBlerina WeigandVeranstaltungen@SPD-Gross-Gerau.de
URL:https://spd-gross-gerau.de/termin/ostereiersuche-wallerstaedten-2025/
LOCATION:Tennisplätze Wallerstädten\, Am Schlag 75\, Groß-Gerau\, Hessen\, 64521\, Germany
CATEGORIES:Ostereiersuche,Veranstaltungen
ATTACH;FMTTYPE=image/png:https://spd-gross-gerau.de/wp-content/uploads/2025/04/image-3.png
ORGANIZER;CN="Veranstaltungsteam":MAILTO:Veranstaltungen@SPD-Gross-Gerau.de
END:VEVENT
BEGIN:VEVENT
DTSTART;TZID=Europe/Berlin:20250423T190000
DTEND;TZID=Europe/Berlin:20250423T190000
DTSTAMP:20260423T093215
CREATED:20250227T110043Z
LAST-MODIFIED:20250302T161850Z
UID:5437-1745434800-1745434800@spd-gross-gerau.de
SUMMARY:SPD Stammtisch April
DESCRIPTION:Gerne laden wir zu unserem nächsten SPD-Stammtisch-Treffen ein. \nDer nächste SPD-Stammtisch findet statt am \nMittwoch\, 23. April 2025\,\nab 19:00 Uhr\,\n– Ort folgt noch – \nDas Treffen soll den Teilnehmenden in einer gemütlichen und lockeren Atmosphäre die Möglichkeit bieten\, Themen anzusprechen und sich mit anderen darüber auszutauschen. \nDie Veranstaltung steht allen SPD Mitgliedern und Nichtmitgliedern offen. \nUm besser planen zu können\, bitten wir um eine Anmeldung bis zum 19. April 2025 per E-Mail an:\nStammtisch@SPD-Gross-Gerau.de \nUnser Stammtisch findet monatlich am vierten Mittwoch eines Monats\, jeweils ab 19:00 Uhr statt. \nWeitere Informationen zu unseren Stammtischen unter:\nwww.spd-gross-gerau.de/stammtisch 
URL:https://spd-gross-gerau.de/termin/stammtisch-april/
LOCATION:Groß-Gerau\, Groß-Gerau\, Hessen\, 64521\, Deutschland
CATEGORIES:Sitzungen,Stammtisch
ATTACH;FMTTYPE=image/png:https://spd-gross-gerau.de/wp-content/uploads/2024/10/Stammtisch.png
ORGANIZER;CN="Ortsverein":MAILTO:info@spd-gross-gerau.de
END:VEVENT
END:VCALENDAR