BEGIN:VCALENDAR
VERSION:2.0
PRODID:-//SPD Groß-Gerau - ECPv6.15.13//NONSGML v1.0//EN
CALSCALE:GREGORIAN
METHOD:PUBLISH
X-ORIGINAL-URL:https://spd-gross-gerau.de
X-WR-CALDESC:Veranstaltungen für SPD Groß-Gerau
REFRESH-INTERVAL;VALUE=DURATION:PT1H
X-Robots-Tag:noindex
X-PUBLISHED-TTL:PT1H
BEGIN:VTIMEZONE
TZID:Europe/Berlin
BEGIN:DAYLIGHT
TZOFFSETFROM:+0100
TZOFFSETTO:+0200
TZNAME:CEST
DTSTART:20250330T010000
END:DAYLIGHT
BEGIN:STANDARD
TZOFFSETFROM:+0200
TZOFFSETTO:+0100
TZNAME:CET
DTSTART:20251026T010000
END:STANDARD
BEGIN:DAYLIGHT
TZOFFSETFROM:+0100
TZOFFSETTO:+0200
TZNAME:CEST
DTSTART:20260329T010000
END:DAYLIGHT
BEGIN:STANDARD
TZOFFSETFROM:+0200
TZOFFSETTO:+0100
TZNAME:CET
DTSTART:20261025T010000
END:STANDARD
BEGIN:DAYLIGHT
TZOFFSETFROM:+0100
TZOFFSETTO:+0200
TZNAME:CEST
DTSTART:20270328T010000
END:DAYLIGHT
BEGIN:STANDARD
TZOFFSETFROM:+0200
TZOFFSETTO:+0100
TZNAME:CET
DTSTART:20271031T010000
END:STANDARD
END:VTIMEZONE
BEGIN:VEVENT
DTSTART;TZID=Europe/Berlin:20260219T190000
DTEND;TZID=Europe/Berlin:20260219T213000
DTSTAMP:20260420T131705
CREATED:20260129T134230Z
LAST-MODIFIED:20260217T104831Z
UID:5633-1771527600-1771536600@spd-gross-gerau.de
SUMMARY:SPD Groß-Gerau lädt ein: Dialogveranstaltung „Rüddenklau und Du“
DESCRIPTION:SPD Groß-Gerau lädt ein zur Dialogveranstaltung „RÜDDENKLAU UND DU.„ \n„Willkommen in der Runde – Diskutieren. Mitgestalten“ \nDie SPD Groß-Gerau lädt dich herzlich zur Dialogveranstaltung „Rüddenklau und Du“ ein. \nDie Veranstaltung findest statt am \nDonnerstag\, den 19. Februar2026\,\nab 19:00 Uhr\,\nin der Weinstube Halbtrocken \nKomm ins Gespräch mit unserem Bürgermeister Jörg Rüddenklau. Starte einen Austausch mit den Mitgliedern der SPD-Fraktion. Lass uns gemeinsam über deine Ideen für die Zukunft von Groß-Gerau sprechen. \nEine vorherige Anmeldung zur besseren Planung wird per E-Mail gewünscht an Mitgestalten@SPD-Gross-Gerau.de. Kurzentschlossene sind ebenso herzlich willkommen. \nWir freuen uns auf zahlreiche Teilnehmende und darauf\, gemeinsam mit dir an der Zukunft von Groß-Gerau zu arbeiten. Dein Engagement ist der Schlüssel zu einer lebendigen und aktiven Gemeinde! \nBei Rückfragen steht unser Dialogteam unter obiger E-Mail Adresse sowie unser Ortsvereinsvorstand unter Ortsverein@SPD-Gross-Gerau.de zur Verfügung. Wir freuen uns auf deine Teilnahme! \nWeitere Informationen unter:\nwww.SPD-Gross-Gerau.de/mitgestalten
URL:https://spd-gross-gerau.de/termin/spd-gross-gerau-laedt-ein-dialogveranstaltung-rueddenklau-und-du/
LOCATION:Weinstube Halbtrocken\, Mainzer Straße 6\, Groß-Gerau\, Hessen\, 64521\, Deutschland
CATEGORIES:Bürgerdialog,Dialog,Veranstaltungen
ATTACH;FMTTYPE=image/png:https://spd-gross-gerau.de/wp-content/uploads/2026/01/HP_Veranstaltung.png
ORGANIZER;CN="Dialogteam":MAILTO:Mitgestalten@SPD-Gross-Gerau.de
END:VEVENT
END:VCALENDAR