BEGIN:VCALENDAR
VERSION:2.0
PRODID:-//SPD Groß-Gerau - ECPv6.15.13//NONSGML v1.0//EN
CALSCALE:GREGORIAN
METHOD:PUBLISH
X-ORIGINAL-URL:https://spd-gross-gerau.de
X-WR-CALDESC:Veranstaltungen für SPD Groß-Gerau
REFRESH-INTERVAL;VALUE=DURATION:PT1H
X-Robots-Tag:noindex
X-PUBLISHED-TTL:PT1H
BEGIN:VTIMEZONE
TZID:Europe/Berlin
BEGIN:DAYLIGHT
TZOFFSETFROM:+0100
TZOFFSETTO:+0200
TZNAME:CEST
DTSTART:20250330T010000
END:DAYLIGHT
BEGIN:STANDARD
TZOFFSETFROM:+0200
TZOFFSETTO:+0100
TZNAME:CET
DTSTART:20251026T010000
END:STANDARD
BEGIN:DAYLIGHT
TZOFFSETFROM:+0100
TZOFFSETTO:+0200
TZNAME:CEST
DTSTART:20260329T010000
END:DAYLIGHT
BEGIN:STANDARD
TZOFFSETFROM:+0200
TZOFFSETTO:+0100
TZNAME:CET
DTSTART:20261025T010000
END:STANDARD
BEGIN:DAYLIGHT
TZOFFSETFROM:+0100
TZOFFSETTO:+0200
TZNAME:CEST
DTSTART:20270328T010000
END:DAYLIGHT
BEGIN:STANDARD
TZOFFSETFROM:+0200
TZOFFSETTO:+0100
TZNAME:CET
DTSTART:20271031T010000
END:STANDARD
END:VTIMEZONE
BEGIN:VEVENT
DTSTART;TZID=Europe/Berlin:20260128T190000
DTEND;TZID=Europe/Berlin:20260128T213000
DTSTAMP:20260422T191414
CREATED:20260129T210624Z
LAST-MODIFIED:20260129T211334Z
UID:5639-1769626800-1769635800@spd-gross-gerau.de
SUMMARY:Willkommen in der Runde – Bürgerdialog der SPD Groß-Gerau
DESCRIPTION:Gerne laden wir zu unserem nächsten Willkommen in der Runde – Bürgerdialog der SPD Groß-Gera ein. \nDer nächste SPD-Stammtisch findet statt am \nMittwoch\, 28. Januar 2026\,\nab 19:00 Uhr\,\nWeinstube Halbtrocken\,\nMainzer Straße 6\, 64521 Groß-Gerau/Groß-Gerau \nDas Treffen soll den Teilnehmenden in einer gemütlichen und lockeren Atmosphäre die Möglichkeit bieten\, Themen anzusprechen und sich mit anderen darüber auszutauschen. \nDie Veranstaltung steht allen SPD Mitgliedern und Nichtmitgliedern offen. \nUm besser planen zu können\, bitten wir um eine Anmeldung bis zum 19. Januar 2026 per E-Mail an:\nStammtisch@SPD-Gross-Gerau.de \nUnser Stammtisch findet monatlich am vierten Mittwoch eines Monats\, jeweils ab 19:00 Uhr statt. \nWeitere Informationen zu unseren Stammtischen unter:\nwww.spd-gross-gerau.de/stammtisch 
URL:https://spd-gross-gerau.de/termin/willkommen-in-der-runde-buergerdialog-der-spd-gross-gerau/
LOCATION:Weinstube Halbtrocken\, Mainzer Straße 6\, Groß-Gerau\, Hessen\, 64521\, Deutschland
CATEGORIES:Stammtisch
ATTACH;FMTTYPE=image/png:https://spd-gross-gerau.de/wp-content/uploads/2026/01/Willkommen-in-der-Runde-980-x-513-px-1.png
ORGANIZER;CN="Stammtischteam":MAILTO:Stammtisch@SPD-Gross-Gerau.de
END:VEVENT
END:VCALENDAR